BEGIN:VCALENDAR
VERSION:2.0
PRODID:-//Rose Hill Coalition LLC - ECPv6.15.20//NONSGML v1.0//EN
CALSCALE:GREGORIAN
METHOD:PUBLISH
X-WR-CALNAME:Rose Hill Coalition LLC
X-ORIGINAL-URL:https://rosehillcoalition.org
X-WR-CALDESC:Events for Rose Hill Coalition LLC
REFRESH-INTERVAL;VALUE=DURATION:PT1H
X-Robots-Tag:noindex
X-PUBLISHED-TTL:PT1H
BEGIN:VTIMEZONE
TZID:America/New_York
BEGIN:DAYLIGHT
TZOFFSETFROM:-0500
TZOFFSETTO:-0400
TZNAME:EDT
DTSTART:20240310T070000
END:DAYLIGHT
BEGIN:STANDARD
TZOFFSETFROM:-0400
TZOFFSETTO:-0500
TZNAME:EST
DTSTART:20241103T060000
END:STANDARD
BEGIN:DAYLIGHT
TZOFFSETFROM:-0500
TZOFFSETTO:-0400
TZNAME:EDT
DTSTART:20250309T070000
END:DAYLIGHT
BEGIN:STANDARD
TZOFFSETFROM:-0400
TZOFFSETTO:-0500
TZNAME:EST
DTSTART:20251102T060000
END:STANDARD
BEGIN:DAYLIGHT
TZOFFSETFROM:-0500
TZOFFSETTO:-0400
TZNAME:EDT
DTSTART:20260308T070000
END:DAYLIGHT
BEGIN:STANDARD
TZOFFSETFROM:-0400
TZOFFSETTO:-0500
TZNAME:EST
DTSTART:20261101T060000
END:STANDARD
END:VTIMEZONE
BEGIN:VEVENT
DTSTART;TZID=America/New_York:20250512T190000
DTEND;TZID=America/New_York:20250512T210000
DTSTAMP:20260420T091739
CREATED:20250414T170428Z
LAST-MODIFIED:20250414T170428Z
UID:10000071-1747076400-1747083600@rosehillcoalition.org
SUMMARY:Franconia District Land Use Advisory Committee Meeting
DESCRIPTION:Zoom link \nThe Franconia District* Land Use Advisory Committee serves as a citizens advisory body to the Franconia District Supervisor. The committee serves solely at the discretion of the Supervisor and makes recommendations on land use issues put before them. Those recommendations may or may not be followed with regard to Fairfax County land-use decisions made by the District Supervisor. \nAll Franconia District residents are welcome to attend Land Use Committee meetings and speak\, however\, each homeowner or civic association gets only one vote. Only the formally appointed primary or alternate representative for an association may vote on a matter. \nMeetings are held once a month on Mondays\, in person and/or virtually. In person meetings are held at the Franconia Governmental Center\, Helen Hayes Room\, 6121 Franconia Road\, Alexandria\, VA 22310. The Zoom link is the same for every meeting. \nFor more information\, contact the Franconia District Supervisor’s office. \nMEMBERSHIP\nIf you would like to be a voting member of the Land Use Committee\, have your Homeowners Association or Civic Association appoint you as its representative to the Committee. Each such association in Franconia District is entitled to have a voting representative on the committee\, as well as an alternate\, who is entitled to vote if the primary representative is not present. Send a Letter of Appointment to Supervisor Lusk’s office. \n2025\nJune 2 (9 back up)\nJuly 7 (14 back up)\nAugust 4 (11 back up)\nSeptember 8 (15 back up)\nOctober 6 (20 back up)\nNovember 10 (17 back up)\nDecember 1 (8 back up) \n*Franconia District includes Franconia\, Kingstowne\, Hybla Valley\, and areas of Springfield. The Rose Hill Planning District lies within Franconia District in Fairfax County\, Virginia.
URL:https://rosehillcoalition.org/event/franconia-district-land-use-advisory-committee-meeting-2/
LOCATION:Franconia Governmental Center\, 6121 Franconia Road\, Alexandria\, VA\, 22310
CATEGORIES:Land Use Advisory Committee,Open to Public
ATTACH;FMTTYPE=image/jpeg:https://rosehillcoalition.org/wp-content/uploads/2024/08/Farmland_16x9.jpg
ORGANIZER;CN="Franconia District Land Use Committee":MAILTO:franconia@fairfaxcounty.gov
END:VEVENT
END:VCALENDAR