BEGIN:VCALENDAR
VERSION:2.0
PRODID:-//Rose Hill Coalition LLC - ECPv6.15.20//NONSGML v1.0//EN
CALSCALE:GREGORIAN
METHOD:PUBLISH
X-ORIGINAL-URL:https://rosehillcoalition.org
X-WR-CALDESC:Events for Rose Hill Coalition LLC
REFRESH-INTERVAL;VALUE=DURATION:PT1H
X-Robots-Tag:noindex
X-PUBLISHED-TTL:PT1H
BEGIN:VTIMEZONE
TZID:America/New_York
BEGIN:DAYLIGHT
TZOFFSETFROM:-0500
TZOFFSETTO:-0400
TZNAME:EDT
DTSTART:20240310T070000
END:DAYLIGHT
BEGIN:STANDARD
TZOFFSETFROM:-0400
TZOFFSETTO:-0500
TZNAME:EST
DTSTART:20241103T060000
END:STANDARD
BEGIN:DAYLIGHT
TZOFFSETFROM:-0500
TZOFFSETTO:-0400
TZNAME:EDT
DTSTART:20250309T070000
END:DAYLIGHT
BEGIN:STANDARD
TZOFFSETFROM:-0400
TZOFFSETTO:-0500
TZNAME:EST
DTSTART:20251102T060000
END:STANDARD
BEGIN:DAYLIGHT
TZOFFSETFROM:-0500
TZOFFSETTO:-0400
TZNAME:EDT
DTSTART:20260308T070000
END:DAYLIGHT
BEGIN:STANDARD
TZOFFSETFROM:-0400
TZOFFSETTO:-0500
TZNAME:EST
DTSTART:20261101T060000
END:STANDARD
END:VTIMEZONE
BEGIN:VEVENT
DTSTART;TZID=America/New_York:20250611T180000
DTEND;TZID=America/New_York:20250611T200000
DTSTAMP:20260420T122234
CREATED:20250504T215533Z
LAST-MODIFIED:20250504T215533Z
UID:10000076-1749664800-1749672000@rosehillcoalition.org
SUMMARY:PUBLIC HEARING: I-495 Southside Express Lanes (VDOT)
DESCRIPTION:Wednesday\, June 11\, 2025\n \nI-495 Southside Express Lanes Study \nVDOT will host four in-person Public Hearings to share information about the “recommended preferred alternative” to address identified transportation needs within the study area. Information about potential property impacts\, VDOT right of way policies and procedures\, and remaining study schedule will also be available. \nFormat\nIn-person with an open house at 6 pm\, presentation at 6:30 pm\, followed by a formal public comment session \nWednesday\, June 11\, 2025\nNannie J. Lee Rec. Center\n1108 Jefferson Street\nAlexandria\, VA 22314 \nOther Locations/Dates: \nMonday\, June 2\, 2025\nEdison High School\n5801 Franconia Road\nAlexandria\, VA 22310 \nWednesday\, June 4\, 2025\nOxon Hill High School\n6701 Leyte Drive\nOxon Hill\, MD 20745 \nMonday\, June 9\, 2025\nWest Potomac High School\n6500 Quander Road\nAlexandria\, VA 22307 \nFor more information\, go to:\nhttps://www.vdot.virginia.gov/projects/northern-virginia-district/i-495-southside-express-lanes-study/
URL:https://rosehillcoalition.org/event/public-hearing-i-495-southside-express-lanes-vdot-4/
CATEGORIES:Community Engagement Meeting,Public Hearing
ATTACH;FMTTYPE=image/png:https://rosehillcoalition.org/wp-content/uploads/2025/05/i-495-southside-express-lanes-study-map-e1746394926458.png
ORGANIZER;CN="VDOT":MAILTO:VCCC@vita.virginia.gov
END:VEVENT
BEGIN:VEVENT
DTSTART;TZID=America/New_York:20250609T180000
DTEND;TZID=America/New_York:20250609T200000
DTSTAMP:20260420T122234
CREATED:20250504T215304Z
LAST-MODIFIED:20250504T215304Z
UID:10000075-1749492000-1749499200@rosehillcoalition.org
SUMMARY:PUBLIC HEARING: I-495 Southside Express Lanes (VDOT)
DESCRIPTION:Monday\, June 9\, 2025\n \nI-495 Southside Express Lanes Study \nVDOT will host four in-person Public Hearings to share information about the “recommended preferred alternative” to address identified transportation needs within the study area. Information about potential property impacts\, VDOT right of way policies and procedures\, and remaining study schedule will also be available. \nFormat\nIn-person with an open house at 6 pm\, presentation at 6:30 pm\, followed by a formal public comment session \nMonday\, June 9\, 2025\nWest Potomac High School\n6500 Quander Road\nAlexandria\, VA 22307 \n  \nOther Locations/Dates: \nMonday\, June 2\, 2025\nEdison High School\n5801 Franconia Road\nAlexandria\, VA 22310 \nWednesday\, June 4\, 2025\nOxon Hill High School\n6701 Leyte Drive\nOxon Hill\, MD 20745 \nWednesday\, June 11\, 2025\nNannie J. Lee Rec. Center\n1108 Jefferson Street\nAlexandria\, VA 22314 \nFor more information\, go to:\nhttps://www.vdot.virginia.gov/projects/northern-virginia-district/i-495-southside-express-lanes-study/
URL:https://rosehillcoalition.org/event/public-hearing-i-495-southside-express-lanes-vdot-3/
CATEGORIES:Community Engagement Meeting,Public Hearing
ATTACH;FMTTYPE=image/png:https://rosehillcoalition.org/wp-content/uploads/2025/05/i-495-southside-express-lanes-study-map-e1746394926458.png
ORGANIZER;CN="VDOT":MAILTO:VCCC@vita.virginia.gov
END:VEVENT
BEGIN:VEVENT
DTSTART;TZID=America/New_York:20250604T180000
DTEND;TZID=America/New_York:20250604T200000
DTSTAMP:20260420T122234
CREATED:20250504T215102Z
LAST-MODIFIED:20250504T215102Z
UID:10000074-1749060000-1749067200@rosehillcoalition.org
SUMMARY:PUBLIC HEARING: I-495 Southside Express Lanes (VDOT)
DESCRIPTION:Wednesday\, June 4\, 2025\n \nI-495 Southside Express Lanes Study \nVDOT will host four in-person Public Hearings to share information about the “recommended preferred alternative” to address identified transportation needs within the study area. Information about potential property impacts\, VDOT right of way policies and procedures\, and remaining study schedule will also be available. \nFormat\nIn-person with an open house at 6 pm\, presentation at 6:30 pm\, followed by a formal public comment session \nWednesday\, June 4\, 2025\nOxon Hill High School\n6701 Leyte Drive\nOxon Hill\, MD 20745 \nOther Locations/Dates: \nMonday\, June 2\, 2025\nEdison High School\n5801 Franconia Road\nAlexandria\, VA 22310 \nMonday\, June 9\, 2025\nWest Potomac High School\n6500 Quander Road\nAlexandria\, VA 22307 \nWednesday\, June 11\, 2025\nNannie J. Lee Rec. Center\n1108 Jefferson Street\nAlexandria\, VA 22314 \nFor more information\, go to:\nhttps://www.vdot.virginia.gov/projects/northern-virginia-district/i-495-southside-express-lanes-study/
URL:https://rosehillcoalition.org/event/public-hearing-i-495-southside-express-lanes-vdot-2/
CATEGORIES:Community Engagement Meeting,Public Hearing
ATTACH;FMTTYPE=image/png:https://rosehillcoalition.org/wp-content/uploads/2025/05/i-495-southside-express-lanes-study-map-e1746394926458.png
ORGANIZER;CN="VDOT":MAILTO:VCCC@vita.virginia.gov
END:VEVENT
BEGIN:VEVENT
DTSTART;TZID=America/New_York:20250602T180000
DTEND;TZID=America/New_York:20250602T200000
DTSTAMP:20260420T122234
CREATED:20250504T214535Z
LAST-MODIFIED:20250504T215021Z
UID:10000073-1748887200-1748894400@rosehillcoalition.org
SUMMARY:PUBLIC HEARING: I-495 Southside Express Lanes (VDOT)
DESCRIPTION:Monday\, June 2\, 2025\n \nI-495 Southside Express Lanes Study \nVDOT will host four in-person Public Hearings to share information about the “recommended preferred alternative” to address identified transportation needs within the study area. Information about potential property impacts\, VDOT right of way policies and procedures\, and remaining study schedule will also be available. \nFormat\nIn-person with an open house at 6 pm\, presentation at 6:30 pm\, followed by a formal public comment session \nMonday\, June 2\, 2025\nEdison High School\n5801 Franconia Road\nAlexandria\, VA 22310 \nOther Locations/Dates: \nWednesday\, June 4\, 2025\nOxon Hill High School\n6701 Leyte Drive\nOxon Hill\, MD 20745 \nMonday\, June 9\, 2025\nWest Potomac High School\n6500 Quander Road\nAlexandria\, VA 22307 \nWednesday\, June 11\, 2025\nNannie J. Lee Rec. Center\n1108 Jefferson Street\nAlexandria\, VA 22314 \nFor more information\, go to:\nhttps://www.vdot.virginia.gov/projects/northern-virginia-district/i-495-southside-express-lanes-study/
URL:https://rosehillcoalition.org/event/public-hearing-i-495-southside-express-lanes-vdot/
LOCATION:Thomas Edison High School\, 5801 Franconia Road\, Alexandria\, VA\, 22310\, United States
CATEGORIES:Community Engagement Meeting,Public Hearing
ATTACH;FMTTYPE=image/png:https://rosehillcoalition.org/wp-content/uploads/2025/05/i-495-southside-express-lanes-study-map-e1746394926458.png
ORGANIZER;CN="VDOT":MAILTO:VCCC@vita.virginia.gov
END:VEVENT
END:VCALENDAR